BEGIN:VCALENDAR
VERSION:2.0
PRODID:-//WP EVENT Manager Ical//NONSGML Events //EN
CALSCALE:GREGORIAN

BEGIN:VEVENT

DTSTART:20230228T030000AMZ
DTEND:20230301T033000AMZ
LOCATION:Online
SUMMARY:3rd Annual 24 Hours of Rare Event
DESCRIPTION:
Join us for the only event that crosses the globe time zone by time zone, celebrating achievements and advancements in the global rare disease community.



To join us as a presenter, email us at 24hoursofrare@thedashalliance.com with your organization name, your country/time zone and your proposed topic.



Click to Join Current Ongoing Session

END:VEVENT
END:VCALENDAR
